BEGIN:VCALENDAR
VERSION:2.0
PRODID:-//A Running Passion - ECPv6.15.20//NONSGML v1.0//EN
CALSCALE:GREGORIAN
METHOD:PUBLISH
X-ORIGINAL-URL:https://arunningpassion.org
X-WR-CALDESC:Events for A Running Passion
REFRESH-INTERVAL;VALUE=DURATION:PT1H
X-Robots-Tag:noindex
X-PUBLISHED-TTL:PT1H
BEGIN:VTIMEZONE
TZID:America/New_York
BEGIN:DAYLIGHT
TZOFFSETFROM:-0500
TZOFFSETTO:-0400
TZNAME:EDT
DTSTART:20220313T070000
END:DAYLIGHT
BEGIN:STANDARD
TZOFFSETFROM:-0400
TZOFFSETTO:-0500
TZNAME:EST
DTSTART:20221106T060000
END:STANDARD
BEGIN:DAYLIGHT
TZOFFSETFROM:-0500
TZOFFSETTO:-0400
TZNAME:EDT
DTSTART:20230312T070000
END:DAYLIGHT
BEGIN:STANDARD
TZOFFSETFROM:-0400
TZOFFSETTO:-0500
TZNAME:EST
DTSTART:20231105T060000
END:STANDARD
BEGIN:DAYLIGHT
TZOFFSETFROM:-0500
TZOFFSETTO:-0400
TZNAME:EDT
DTSTART:20240310T070000
END:DAYLIGHT
BEGIN:STANDARD
TZOFFSETFROM:-0400
TZOFFSETTO:-0500
TZNAME:EST
DTSTART:20241103T060000
END:STANDARD
BEGIN:DAYLIGHT
TZOFFSETFROM:-0500
TZOFFSETTO:-0400
TZNAME:EDT
DTSTART:20250309T070000
END:DAYLIGHT
BEGIN:STANDARD
TZOFFSETFROM:-0400
TZOFFSETTO:-0500
TZNAME:EST
DTSTART:20251102T060000
END:STANDARD
END:VTIMEZONE
BEGIN:VEVENT
DTSTART;VALUE=DATE:20240103
DTEND;VALUE=DATE:20240108
DTSTAMP:20260423T150301
CREATED:20230816T203842Z
LAST-MODIFIED:20230907T123629Z
UID:2246-1704240000-1704671999@arunningpassion.org
SUMMARY:2024 Walt Disney WorldⓇ Marathon Weekend
DESCRIPTION:A Running Passion is pleased to be a participating charity for the Walt Disney WorldⓇ Marathon Weekend in January. \nWe are truly grateful to the many fundraisers who join us from across the country and beyond. In the pursuit of their own goals\, they allow us to make the same reality possible to the youth of Maine. With every step and every dollar\, we can help young people find joy and passion in sports. \nIf you’d like to join us at Walt Disney World® Marathon Weekend\, check out our Eventbrite page to see any available bibs or join our waitlist. If you’d like to join our email list for future races\, or if you’ve purchased your race bib separately but still want to be involved with our mission\, send us an email! \n“All Disney names and logos are used with permission\, which in no way constitutes an endorsement by Disney\, express or implied\, of any organization\, company\, or fundraising campaign. Disney does not control or guarantee the accuracy\, relevance\, timeliness or completeness of information contained on this website. The views and opinions of authors expressed herein do not necessarily reflect those of Disney\, and agreement with those views may not be implied by use of the Disney names and logos.” ©Disney
URL:https://arunningpassion.org/event/2024-walt-disney-world%e2%93%a1-marathon-weekend/
LOCATION:WALT DISNEY WORLD® Resort\, ESPN Lake\, Buena Vista\, FL\, 32830\, United States
CATEGORIES:Half & Full Marathons
ATTACH;FMTTYPE=image/png:https://arunningpassion.org/wp-content/uploads/2023/08/image3-2048x2048-1.png
END:VEVENT
BEGIN:VEVENT
DTSTART;VALUE=DATE:20231001
DTEND;VALUE=DATE:20231002
DTSTAMP:20260423T150301
CREATED:20230816T194707Z
LAST-MODIFIED:20230816T194852Z
UID:2239-1696118400-1696204799@arunningpassion.org
SUMMARY:Maine Marathon Volunteering
DESCRIPTION:
URL:https://arunningpassion.org/event/maine-marathon-volunteering/
LOCATION:FL
CATEGORIES:Half & Full Marathons
ATTACH;FMTTYPE=image/png:https://arunningpassion.org/wp-content/uploads/2023/08/mm-sized.png
END:VEVENT
END:VCALENDAR